BEGIN:VCALENDAR
VERSION:2.0
PRODID:-//Tukios.com/
BEGIN:VEVENT
UID:e25a8f11-8f4f-4b18-ad33-43cd9d922116@www.eleyfuneralhomes.com
DTSTAMP:20260424T232319Z
DTSTART:20260514T140000Z
DTEND:20260514T150000Z
SUMMARY:Memorial Service
DESCRIPTION:
URL:https://www.eleyfuneralhomes.com/obituaries/michael-bowersox
LOCATION: 10056 Water Street  Three Rivers MI 49093
GEO:41.9055319;-85.7619785
END:VEVENT
END:VCALENDAR